BEGIN:VCALENDAR
VERSION:2.0
PRODID:-//Doarpstsjerke Metslawier - ECPv6.15.20//NONSGML v1.0//EN
CALSCALE:GREGORIAN
METHOD:PUBLISH
X-ORIGINAL-URL:https://doarpstsjerke-metslawier.nl
X-WR-CALDESC:Evenementen voor Doarpstsjerke Metslawier
REFRESH-INTERVAL;VALUE=DURATION:PT1H
X-Robots-Tag:noindex
X-PUBLISHED-TTL:PT1H
BEGIN:VTIMEZONE
TZID:Europe/Amsterdam
BEGIN:DAYLIGHT
TZOFFSETFROM:+0100
TZOFFSETTO:+0200
TZNAME:CEST
DTSTART:20240331T010000
END:DAYLIGHT
BEGIN:STANDARD
TZOFFSETFROM:+0200
TZOFFSETTO:+0100
TZNAME:CET
DTSTART:20241027T010000
END:STANDARD
BEGIN:DAYLIGHT
TZOFFSETFROM:+0100
TZOFFSETTO:+0200
TZNAME:CEST
DTSTART:20250330T010000
END:DAYLIGHT
BEGIN:STANDARD
TZOFFSETFROM:+0200
TZOFFSETTO:+0100
TZNAME:CET
DTSTART:20251026T010000
END:STANDARD
BEGIN:DAYLIGHT
TZOFFSETFROM:+0100
TZOFFSETTO:+0200
TZNAME:CEST
DTSTART:20260329T010000
END:DAYLIGHT
BEGIN:STANDARD
TZOFFSETFROM:+0200
TZOFFSETTO:+0100
TZNAME:CET
DTSTART:20261025T010000
END:STANDARD
END:VTIMEZONE
BEGIN:VEVENT
DTSTART;TZID=Europe/Amsterdam:20251012T150000
DTEND;TZID=Europe/Amsterdam:20251012T170000
DTSTAMP:20260425T211657
CREATED:20250929T192304Z
LAST-MODIFIED:20250929T193508Z
UID:10002825-1760281200-1760288400@doarpstsjerke-metslawier.nl
SUMMARY:Muziekaal optreden LIJN 12
DESCRIPTION:Lijn 12 is een eigenzinnig vocaal ensemble van tien zangers onder leiding van Sjoek Nutma. Met zes vrouwenstemmen en vier mannenstemmen brengen zij een kleurrijk programma\, deels a capella\, deels begeleid door pianiste Saskia Zoet. \nDe leden van Lijn 12 komen uit alle hoeken van Friesland en bundelen hun rijke muzikale ervaring tot een bijzondere\, volle klank. Hun repertoire is verrassend internationaal: muziek uit verschillende werelddelen\, afgewisseld met subtiele choreografie. Dankzij de afwisseling in stijlen en presentatie blijft het optreden van begin tot eind boeien. \nMienskipshûs Doarpstsjerke Mitselwier nodigt u van harte uit in de prachtige monumentale kerk\, waar de zang extra tot zijn recht komt in de sfeervolle akoestiek. \nToegang: €12\,50 | Freonen: €10\,- (inclusief één consumptie) \n\n 
URL:https://doarpstsjerke-metslawier.nl/activiteit/muziekaal-optreden-lijn-12/
LOCATION:Doarpstsjerke Mitselwier\, Tsjerkebuorren 7\, Mitselwier
CATEGORIES:Concert
ATTACH;FMTTYPE=image/jpeg:https://doarpstsjerke-metslawier.nl/wp-content/uploads/2025/09/image.jpeg
END:VEVENT
END:VCALENDAR