BEGIN:VCALENDAR
VERSION:2.0
PRODID:-//Doarpstsjerke Metslawier - ECPv6.15.20//NONSGML v1.0//EN
CALSCALE:GREGORIAN
METHOD:PUBLISH
X-ORIGINAL-URL:https://doarpstsjerke-metslawier.nl
X-WR-CALDESC:Evenementen voor Doarpstsjerke Metslawier
REFRESH-INTERVAL;VALUE=DURATION:PT1H
X-Robots-Tag:noindex
X-PUBLISHED-TTL:PT1H
BEGIN:VTIMEZONE
TZID:Europe/Amsterdam
BEGIN:DAYLIGHT
TZOFFSETFROM:+0100
TZOFFSETTO:+0200
TZNAME:CEST
DTSTART:20250330T010000
END:DAYLIGHT
BEGIN:STANDARD
TZOFFSETFROM:+0200
TZOFFSETTO:+0100
TZNAME:CET
DTSTART:20251026T010000
END:STANDARD
BEGIN:DAYLIGHT
TZOFFSETFROM:+0100
TZOFFSETTO:+0200
TZNAME:CEST
DTSTART:20260329T010000
END:DAYLIGHT
BEGIN:STANDARD
TZOFFSETFROM:+0200
TZOFFSETTO:+0100
TZNAME:CET
DTSTART:20261025T010000
END:STANDARD
BEGIN:DAYLIGHT
TZOFFSETFROM:+0100
TZOFFSETTO:+0200
TZNAME:CEST
DTSTART:20270328T010000
END:DAYLIGHT
BEGIN:STANDARD
TZOFFSETFROM:+0200
TZOFFSETTO:+0100
TZNAME:CET
DTSTART:20271031T010000
END:STANDARD
END:VTIMEZONE
BEGIN:VEVENT
DTSTART;TZID=Europe/Amsterdam:20260201T150000
DTEND;TZID=Europe/Amsterdam:20260201T180000
DTSTAMP:20260425T141331
CREATED:20260119T081239Z
LAST-MODIFIED:20260119T081239Z
UID:10003481-1769958000-1769968800@doarpstsjerke-metslawier.nl
SUMMARY:De Meisjes van de Radio
DESCRIPTION:Stichting Iepenloftspul Mitselwier \nPresenteert \nIn samenwerking met de Stichting Doarpstsjerke Mitselwier \n  \nOp zondag 1 februari 2026 komen de ‘meisjes van de radio’ naar Mitselwier met een middag vullend programma voor jong en oud! \nDe ‘meisjes’ – Aleid en Jasmijn brengen deze middag een interactieve voorstelling vol vrolijkheid en energie\, rondom de grote ster van de show: de Radio! Een feest der herkenning met liedjes en radiogeluiden van wat langer geleden maar herkenbaar voor iedereen. Geniet van swingend repertoire\, luisterliedjes\, meezingers en bekende radiospelletjes van toen. Dan zijn we allemaal weer even meisjes en jongens van de radio… \nHet optreden zal worden gehouden in De Doarpstsjerke – It Mienskipshûs – in Mitselwier \nAanvang optreden; 15.00 uur \nKerk open om 13.30 uur \n \nToegang gratis \nEen gift wordt zeer op prijs gesteld. De giften worden gebruikt voor het onderhoud van het kerkgebouw.
URL:https://doarpstsjerke-metslawier.nl/activiteit/de-meisjes-van-de-radio/
LOCATION:Doarpstsjerke Mitselwier\, Tsjerkebuorren 7\, Mitselwier
CATEGORIES:Concert
END:VEVENT
END:VCALENDAR