BEGIN:VCALENDAR
VERSION:2.0
PRODID:-//Doarpstsjerke Metslawier - ECPv6.15.20//NONSGML v1.0//EN
CALSCALE:GREGORIAN
METHOD:PUBLISH
X-ORIGINAL-URL:https://doarpstsjerke-metslawier.nl
X-WR-CALDESC:Evenementen voor Doarpstsjerke Metslawier
REFRESH-INTERVAL;VALUE=DURATION:PT1H
X-Robots-Tag:noindex
X-PUBLISHED-TTL:PT1H
BEGIN:VTIMEZONE
TZID:Europe/Amsterdam
BEGIN:DAYLIGHT
TZOFFSETFROM:+0100
TZOFFSETTO:+0200
TZNAME:CEST
DTSTART:20200329T010000
END:DAYLIGHT
BEGIN:STANDARD
TZOFFSETFROM:+0200
TZOFFSETTO:+0100
TZNAME:CET
DTSTART:20201025T010000
END:STANDARD
BEGIN:DAYLIGHT
TZOFFSETFROM:+0100
TZOFFSETTO:+0200
TZNAME:CEST
DTSTART:20210328T010000
END:DAYLIGHT
BEGIN:STANDARD
TZOFFSETFROM:+0200
TZOFFSETTO:+0100
TZNAME:CET
DTSTART:20211031T010000
END:STANDARD
BEGIN:DAYLIGHT
TZOFFSETFROM:+0100
TZOFFSETTO:+0200
TZNAME:CEST
DTSTART:20220327T010000
END:DAYLIGHT
BEGIN:STANDARD
TZOFFSETFROM:+0200
TZOFFSETTO:+0100
TZNAME:CET
DTSTART:20221030T010000
END:STANDARD
END:VTIMEZONE
BEGIN:VEVENT
DTSTART;TZID=Europe/Amsterdam:20210827T203000
DTEND;TZID=Europe/Amsterdam:20210827T230000
DTSTAMP:20260425T155226
CREATED:20210816T231546Z
LAST-MODIFIED:20221117T225340Z
UID:10000410-1630096200-1630105200@doarpstsjerke-metslawier.nl
SUMMARY:Wat spookt er 's nachts rond de Tsjerke  in Metslawier?
DESCRIPTION:Nacht van de Vleermuis.\n27 augustus 2021 om 20:30 uur \n \nHet kerkgebouw van Mienskipshûs doarptsjerke Metslawier biedt onderdak aan één van de grootste kraamkolonies aan watervleermuizen in Nederland. Daar zijn we maar wat trots op! Daarom presenteren we ook dit jaar weer een programma in het kader van de Nacht van de Vleermuis. Vleermuizenkenner Johann Prescher vertelt over het leven van de vleermuizen in en rond de tsjerke in Metslawier. Johann doet onderzoek naar vleermuizen en komt regelmatig langs om de kolonies in kaart te brengen. Uiteraard krijgt u volop gelegenheid voor het stellen van vragen. Als het weer het toelaat is er daarna onder leiding van Johann\, een observatie van de vleermuizen rondom de kerk en in het dorp. \nAanmelding voor deze avond is verplicht\, dit kan door een bericht te sturen naar mail: Stichting.Doarpstsjerke.Metslawier@outlook.com. De bevestigingsmail die u ontvangt is uw toegangsbewijs.  \nDe toegang is gratis. Een gift wordt natuurlijk op prijs gesteld.
URL:https://doarpstsjerke-metslawier.nl/activiteit/wat-spookt-er-s-nachts-rond-de-tsjerke-in-metslawier/
CATEGORIES:Lezing
END:VEVENT
END:VCALENDAR