BEGIN:VCALENDAR
VERSION:2.0
PRODID:-//Doarpstsjerke Metslawier - ECPv6.15.20//NONSGML v1.0//EN
CALSCALE:GREGORIAN
METHOD:PUBLISH
X-WR-CALNAME:Doarpstsjerke Metslawier
X-ORIGINAL-URL:https://doarpstsjerke-metslawier.nl
X-WR-CALDESC:Evenementen voor Doarpstsjerke Metslawier
REFRESH-INTERVAL;VALUE=DURATION:PT1H
X-Robots-Tag:noindex
X-PUBLISHED-TTL:PT1H
BEGIN:VTIMEZONE
TZID:Europe/Amsterdam
BEGIN:DAYLIGHT
TZOFFSETFROM:+0100
TZOFFSETTO:+0200
TZNAME:CEST
DTSTART:20210328T010000
END:DAYLIGHT
BEGIN:STANDARD
TZOFFSETFROM:+0200
TZOFFSETTO:+0100
TZNAME:CET
DTSTART:20211031T010000
END:STANDARD
BEGIN:DAYLIGHT
TZOFFSETFROM:+0100
TZOFFSETTO:+0200
TZNAME:CEST
DTSTART:20220327T010000
END:DAYLIGHT
BEGIN:STANDARD
TZOFFSETFROM:+0200
TZOFFSETTO:+0100
TZNAME:CET
DTSTART:20221030T010000
END:STANDARD
BEGIN:DAYLIGHT
TZOFFSETFROM:+0100
TZOFFSETTO:+0200
TZNAME:CEST
DTSTART:20230326T010000
END:DAYLIGHT
BEGIN:STANDARD
TZOFFSETFROM:+0200
TZOFFSETTO:+0100
TZNAME:CET
DTSTART:20231029T010000
END:STANDARD
END:VTIMEZONE
BEGIN:VEVENT
DTSTART;TZID=Europe/Amsterdam:20221118T193000
DTEND;TZID=Europe/Amsterdam:20221118T203000
DTSTAMP:20260424T131339
CREATED:20221117T224604Z
LAST-MODIFIED:20221117T224742Z
UID:10000461-1668799800-1668803400@doarpstsjerke-metslawier.nl
SUMMARY:Lezing Anna van Ezumazijl
DESCRIPTION:Op 18 november tijdens de verhalenavond ontmoet heel Friesland elkaar om te luisteren naar verhalen vaak op verrassende locaties. Dit jaar is Mienskipshûs Doarpstsjerke in Metslawier (Tsjerkebuorren 7) ook een locatie waar een verhaal wordt verteld. Bregt Elgersma verteld hier het verhaal over Anna om 19:30 en 20:30 uur. \nHet verhaal uit 1633 gaat over het leven van Anna uit Ezumazijl. Dit Anna-mysterie werd door Balthasar Bekker vaak gebruikte om de spot te drijven met duivelscomedie en het bijgeloof van die tijd. Waren het duivelen die gevonden werden of was Anna het slachtoffer van haar kwelgeesten\, geen duivelen\, maar mensen die in duivelen geloofden…???? \nNatuurlijk kan voor of na het verhaal de kerk en de Duo-Expositie ‘Lâns it túnpaad fan ús heit’ met werk van Baukje Harms en Teun Hoogerwerf worden bekeken. In de Doarpstsjerke is koffie/ thee e.d. te verkrijgen. De avond is vrij toegankelijk\, een gift voor het onderhoud van het gebouw wordt zeer op prijs gesteld. \nKijk op verhalenavond.nl voor meer informatie en stippel een route uit om op deze avond naar meer verhalen te luisteren.
URL:https://doarpstsjerke-metslawier.nl/activiteit/anna-van-ezumazijl/
CATEGORIES:Lezing
END:VEVENT
END:VCALENDAR