BEGIN:VCALENDAR
VERSION:2.0
PRODID:-//Doarpstsjerke Metslawier - ECPv6.15.20//NONSGML v1.0//EN
CALSCALE:GREGORIAN
METHOD:PUBLISH
X-ORIGINAL-URL:https://doarpstsjerke-metslawier.nl
X-WR-CALDESC:Evenementen voor Doarpstsjerke Metslawier
REFRESH-INTERVAL;VALUE=DURATION:PT1H
X-Robots-Tag:noindex
X-PUBLISHED-TTL:PT1H
BEGIN:VTIMEZONE
TZID:Europe/Amsterdam
BEGIN:DAYLIGHT
TZOFFSETFROM:+0100
TZOFFSETTO:+0200
TZNAME:CEST
DTSTART:20210328T010000
END:DAYLIGHT
BEGIN:STANDARD
TZOFFSETFROM:+0200
TZOFFSETTO:+0100
TZNAME:CET
DTSTART:20211031T010000
END:STANDARD
BEGIN:DAYLIGHT
TZOFFSETFROM:+0100
TZOFFSETTO:+0200
TZNAME:CEST
DTSTART:20220327T010000
END:DAYLIGHT
BEGIN:STANDARD
TZOFFSETFROM:+0200
TZOFFSETTO:+0100
TZNAME:CET
DTSTART:20221030T010000
END:STANDARD
BEGIN:DAYLIGHT
TZOFFSETFROM:+0100
TZOFFSETTO:+0200
TZNAME:CEST
DTSTART:20230326T010000
END:DAYLIGHT
BEGIN:STANDARD
TZOFFSETFROM:+0200
TZOFFSETTO:+0100
TZNAME:CET
DTSTART:20231029T010000
END:STANDARD
END:VTIMEZONE
BEGIN:VEVENT
DTSTART;TZID=Europe/Amsterdam:20220611T133000
DTEND;TZID=Europe/Amsterdam:20220611T170000
DTSTAMP:20260423T082713
CREATED:20220501T135841Z
LAST-MODIFIED:20221117T225313Z
UID:10000445-1654954200-1654966800@doarpstsjerke-metslawier.nl
SUMMARY:Groepsexpositie Vlasroute Follow the Blue Line
DESCRIPTION:Vanaf 11 juni tot en met 28 augustus is in de Doarpstjerke Metslawier de groepsexpositie Vlasroute “Follow the Blue Line”. In 2018 is de Vlasroute in het jaar van Culturele Hoofdstad gestart.  Deze vlasroute van ongeveer 30 kilometer vertelt het verhaal van de teelt van vlas tot en met het eindproduct van handbedrukt linnen. Dit jaar bestaat de vlasroute 5 jaar\, wat gevierd wordt met veel kunst. Diverse kunstenaars van verschillende disciplines hebben zich laten inspireren door het gewas vlas en tonen hun werk tijdens de groepsexpositie in Mienskipshûs Doarpstsjerke Metslawier. De VLASDAGEN 2022  zijn op 18 juni\, 25 juni\, 2 juli\, 9 juli\, 16 juli\, 23 juli\, 30 juli en op 6 augustus. Op deze vlasdagen is de Doarpstsjerke  net als de andere locaties op de vlasroute open van 10-17 uur. \nWe nodigen u graag uit voor een bezoek aan de expositie in de monumentale kerk in het beschermde dorpsgezicht van Metslawier. \nDe expositie is vrij toegankelijk\, een gift voor het onderhoud van het gebouw wordt zeer op prijs gesteld. \n 
URL:https://doarpstsjerke-metslawier.nl/activiteit/groepsexpositie-vlasroute-follow-the-blue-line/2022-06-11/
CATEGORIES:Expositie
END:VEVENT
BEGIN:VEVENT
DTSTART;TZID=Europe/Amsterdam:20220612T133000
DTEND;TZID=Europe/Amsterdam:20220612T170000
DTSTAMP:20260423T082713
CREATED:20220501T135841Z
LAST-MODIFIED:20221117T225313Z
UID:10000446-1655040600-1655053200@doarpstsjerke-metslawier.nl
SUMMARY:Groepsexpositie Vlasroute Follow the Blue Line
DESCRIPTION:Vanaf 11 juni tot en met 28 augustus is in de Doarpstjerke Metslawier de groepsexpositie Vlasroute “Follow the Blue Line”. In 2018 is de Vlasroute in het jaar van Culturele Hoofdstad gestart.  Deze vlasroute van ongeveer 30 kilometer vertelt het verhaal van de teelt van vlas tot en met het eindproduct van handbedrukt linnen. Dit jaar bestaat de vlasroute 5 jaar\, wat gevierd wordt met veel kunst. Diverse kunstenaars van verschillende disciplines hebben zich laten inspireren door het gewas vlas en tonen hun werk tijdens de groepsexpositie in Mienskipshûs Doarpstsjerke Metslawier. De VLASDAGEN 2022  zijn op 18 juni\, 25 juni\, 2 juli\, 9 juli\, 16 juli\, 23 juli\, 30 juli en op 6 augustus. Op deze vlasdagen is de Doarpstsjerke  net als de andere locaties op de vlasroute open van 10-17 uur. \nWe nodigen u graag uit voor een bezoek aan de expositie in de monumentale kerk in het beschermde dorpsgezicht van Metslawier. \nDe expositie is vrij toegankelijk\, een gift voor het onderhoud van het gebouw wordt zeer op prijs gesteld. \n 
URL:https://doarpstsjerke-metslawier.nl/activiteit/groepsexpositie-vlasroute-follow-the-blue-line/2022-06-12/
CATEGORIES:Expositie
END:VEVENT
BEGIN:VEVENT
DTSTART;TZID=Europe/Amsterdam:20220618T100000
DTEND;TZID=Europe/Amsterdam:20220618T170000
DTSTAMP:20260423T082713
CREATED:20220501T140232Z
LAST-MODIFIED:20221117T225258Z
UID:10000258-1655546400-1655571600@doarpstsjerke-metslawier.nl
SUMMARY:Vlasdagen
DESCRIPTION:In 2018 is de Vlasroute in het jaar van Culturele Hoofdstad gestart  Deze vlasroute van ongeveer 30 kilometer vertelt het verhaal van de teelt van vlas tot en met het eindproduct van handbedrukt linnen In deze periode kunnen mensen op ontdekkingstocht (swalkje in het Fries) in Noordoost-Friesland langs leuke bezienswaardigheden die met vlas te maken hebben. Dit jaar bestaat de vlasroute 5 jaar. Wat gevierd wordt met veel kunst. Diverse kunstenaars van verschillende disciplines hebben zich laten inspireren door het gewas vlas en tonen hun werk tijdens de groepsexpositie in Mienskipshûs Doarpstsjerke Metslawier. De VLASDAGEN 2022  zijn op 18 juni\, 25 juni\, 2 juli\, 9 juli\, 16 juli\, 23 juli\, 30 juli en op 6 augustus. Op deze vlasdagen is de Doarpstsjerke  net als de andere locaties op de vlasroute open van 10-17 uur. \nWe nodigen u graag uit voor een bezoek aan de expositie in de monumentale kerk in het beschermde dorpsgezicht van Metslawier. De expositie is vrij toegankelijk\, een gift voor het onderhoud van het gebouw wordt zeer op prijs gesteld.
URL:https://doarpstsjerke-metslawier.nl/activiteit/vlasdagen/2022-06-18/
CATEGORIES:Expositie
END:VEVENT
BEGIN:VEVENT
DTSTART;TZID=Europe/Amsterdam:20220619T133000
DTEND;TZID=Europe/Amsterdam:20220619T170000
DTSTAMP:20260423T082713
CREATED:20220501T135841Z
LAST-MODIFIED:20221117T225313Z
UID:10000447-1655645400-1655658000@doarpstsjerke-metslawier.nl
SUMMARY:Groepsexpositie Vlasroute Follow the Blue Line
DESCRIPTION:Vanaf 11 juni tot en met 28 augustus is in de Doarpstjerke Metslawier de groepsexpositie Vlasroute “Follow the Blue Line”. In 2018 is de Vlasroute in het jaar van Culturele Hoofdstad gestart.  Deze vlasroute van ongeveer 30 kilometer vertelt het verhaal van de teelt van vlas tot en met het eindproduct van handbedrukt linnen. Dit jaar bestaat de vlasroute 5 jaar\, wat gevierd wordt met veel kunst. Diverse kunstenaars van verschillende disciplines hebben zich laten inspireren door het gewas vlas en tonen hun werk tijdens de groepsexpositie in Mienskipshûs Doarpstsjerke Metslawier. De VLASDAGEN 2022  zijn op 18 juni\, 25 juni\, 2 juli\, 9 juli\, 16 juli\, 23 juli\, 30 juli en op 6 augustus. Op deze vlasdagen is de Doarpstsjerke  net als de andere locaties op de vlasroute open van 10-17 uur. \nWe nodigen u graag uit voor een bezoek aan de expositie in de monumentale kerk in het beschermde dorpsgezicht van Metslawier. \nDe expositie is vrij toegankelijk\, een gift voor het onderhoud van het gebouw wordt zeer op prijs gesteld. \n 
URL:https://doarpstsjerke-metslawier.nl/activiteit/groepsexpositie-vlasroute-follow-the-blue-line/2022-06-19/
CATEGORIES:Expositie
END:VEVENT
BEGIN:VEVENT
DTSTART;TZID=Europe/Amsterdam:20220625T100000
DTEND;TZID=Europe/Amsterdam:20220625T170000
DTSTAMP:20260423T082713
CREATED:20220501T140232Z
LAST-MODIFIED:20221117T225258Z
UID:10000259-1656151200-1656176400@doarpstsjerke-metslawier.nl
SUMMARY:Vlasdagen
DESCRIPTION:In 2018 is de Vlasroute in het jaar van Culturele Hoofdstad gestart  Deze vlasroute van ongeveer 30 kilometer vertelt het verhaal van de teelt van vlas tot en met het eindproduct van handbedrukt linnen In deze periode kunnen mensen op ontdekkingstocht (swalkje in het Fries) in Noordoost-Friesland langs leuke bezienswaardigheden die met vlas te maken hebben. Dit jaar bestaat de vlasroute 5 jaar. Wat gevierd wordt met veel kunst. Diverse kunstenaars van verschillende disciplines hebben zich laten inspireren door het gewas vlas en tonen hun werk tijdens de groepsexpositie in Mienskipshûs Doarpstsjerke Metslawier. De VLASDAGEN 2022  zijn op 18 juni\, 25 juni\, 2 juli\, 9 juli\, 16 juli\, 23 juli\, 30 juli en op 6 augustus. Op deze vlasdagen is de Doarpstsjerke  net als de andere locaties op de vlasroute open van 10-17 uur. \nWe nodigen u graag uit voor een bezoek aan de expositie in de monumentale kerk in het beschermde dorpsgezicht van Metslawier. De expositie is vrij toegankelijk\, een gift voor het onderhoud van het gebouw wordt zeer op prijs gesteld.
URL:https://doarpstsjerke-metslawier.nl/activiteit/vlasdagen/2022-06-25/
CATEGORIES:Expositie
END:VEVENT
BEGIN:VEVENT
DTSTART;TZID=Europe/Amsterdam:20220626T133000
DTEND;TZID=Europe/Amsterdam:20220626T170000
DTSTAMP:20260423T082713
CREATED:20220501T135841Z
LAST-MODIFIED:20221117T225313Z
UID:10000448-1656250200-1656262800@doarpstsjerke-metslawier.nl
SUMMARY:Groepsexpositie Vlasroute Follow the Blue Line
DESCRIPTION:Vanaf 11 juni tot en met 28 augustus is in de Doarpstjerke Metslawier de groepsexpositie Vlasroute “Follow the Blue Line”. In 2018 is de Vlasroute in het jaar van Culturele Hoofdstad gestart.  Deze vlasroute van ongeveer 30 kilometer vertelt het verhaal van de teelt van vlas tot en met het eindproduct van handbedrukt linnen. Dit jaar bestaat de vlasroute 5 jaar\, wat gevierd wordt met veel kunst. Diverse kunstenaars van verschillende disciplines hebben zich laten inspireren door het gewas vlas en tonen hun werk tijdens de groepsexpositie in Mienskipshûs Doarpstsjerke Metslawier. De VLASDAGEN 2022  zijn op 18 juni\, 25 juni\, 2 juli\, 9 juli\, 16 juli\, 23 juli\, 30 juli en op 6 augustus. Op deze vlasdagen is de Doarpstsjerke  net als de andere locaties op de vlasroute open van 10-17 uur. \nWe nodigen u graag uit voor een bezoek aan de expositie in de monumentale kerk in het beschermde dorpsgezicht van Metslawier. \nDe expositie is vrij toegankelijk\, een gift voor het onderhoud van het gebouw wordt zeer op prijs gesteld. \n 
URL:https://doarpstsjerke-metslawier.nl/activiteit/groepsexpositie-vlasroute-follow-the-blue-line/2022-06-26/
CATEGORIES:Expositie
END:VEVENT
END:VCALENDAR